BEGIN:VCALENDAR
VERSION:2.0
PRODID:icalendar-ruby
CALSCALE:GREGORIAN
METHOD:PUBLISH
BEGIN:VEVENT
DTSTAMP:20260424T212659Z
UID:9-1487180@shcfamily.com
DTSTART:20260927T144500Z
DTEND:20260927T154500Z
CLASS:PUBLIC
CREATED:20260424T154720
DESCRIPTION:
LAST-MODIFIED:20260424T154720
LOCATION:
SUMMARY:Connect Groups
URL;VALUE=URI:https://www.shcfamily.com/events/connect-groups/2026-09-27
END:VEVENT
END:VCALENDAR
