BEGIN:VCALENDAR
VERSION:2.0
PRODID:icalendar-ruby
CALSCALE:GREGORIAN
METHOD:PUBLISH
BEGIN:VEVENT
DTSTAMP:20260425T032350Z
UID:9-1488408@shcfamily.com
DTSTART:20261025T144500Z
DTEND:20261025T154500Z
CLASS:PUBLIC
CREATED:20260424T212438
DESCRIPTION:
LAST-MODIFIED:20260424T212438
LOCATION:
SUMMARY:Connect Groups
URL;VALUE=URI:https://www.shcfamily.com/events/connect-groups/2026-10-25
END:VEVENT
END:VCALENDAR
