BEGIN:VCALENDAR
VERSION:2.0
PRODID:icalendar-ruby
CALSCALE:GREGORIAN
METHOD:PUBLISH
BEGIN:VEVENT
DTSTAMP:20260423T134641Z
UID:109-1459095@shcfamily.com
DTSTART:20260517T160000Z
DTEND:20260517T160000Z
CLASS:PUBLIC
CREATED:20260417T070523
DESCRIPTION:We will be honoring those who have recently graduated or will b
 e graduating this school year at the end of service. If you would like to 
 be honored\, you can sign up at the table in the back of the Worship Cente
 r.
LAST-MODIFIED:20260417T070523
LOCATION:
SUMMARY:Graduate Sunday
URL;VALUE=URI:https://www.shcfamily.com/events/graduate-sunday--109/2026-05
 -17
ATTACH;FILENAME=Grad-Sunday-1500-x-784-px.jpg;FMTTYPE=image/jpeg:https://dq
 5pwpg1q8ru0.cloudfront.net/2026/04/17/12/03/00/6a69ca11-2ff4-4313-b6d9-43f
 2c1cadc54/Grad-Sunday-1500-x-784-px.jpg
END:VEVENT
END:VCALENDAR
