BEGIN:VCALENDAR
VERSION:2.0
PRODID:icalendar-ruby
CALSCALE:GREGORIAN
METHOD:PUBLISH
BEGIN:VEVENT
DTSTAMP:20260423T134601Z
UID:107-1373930@shcfamily.com
DTSTART:20260502T220000Z
DTEND:20260503T000000Z
CLASS:PUBLIC
CREATED:20260324T142826
DESCRIPTION:All Kingagers are invited to meet at the restaurant at Joe Whee
 ler State Park on Saturday\, May 2\, at 5:00pm.
LAST-MODIFIED:20260324T142826
LOCATION:
SUMMARY:Kingager Supper @ Joe Wheeler State Park
URL;VALUE=URI:https://www.shcfamily.com/events/kingager-supper-joe-wheeler-
 state-park/2026-05-02
ATTACH;FILENAME=Kingagers-dinner-1500-x-784-px.jpg;FMTTYPE=image/jpeg:https
 ://dq5pwpg1q8ru0.cloudfront.net/2026/03/24/19/28/26/66ed5a0d-9a72-45d9-8d8
 a-4ca1a5e989c2/Kingagers-dinner-1500-x-784-px.jpg
END:VEVENT
END:VCALENDAR
