BEGIN:VCALENDAR
VERSION:2.0
PRODID:icalendar-ruby
CALSCALE:GREGORIAN
METHOD:PUBLISH
BEGIN:VEVENT
DTSTAMP:20260423T140339Z
UID:108-1459094@shcfamily.com
DTSTART:20260510T160000Z
DTEND:20260510T170000Z
CLASS:PUBLIC
CREATED:20260417T070353
DESCRIPTION:Join us Sunday\, May 10\, as we celebrate Mother's Day. All wom
 en present will receive a special gift. We will conclude our service with 
 baby/child dedication. If you would like to dedicate your child to the Lor
 d\, you can sign up at the back table in the Worship Center. 
LAST-MODIFIED:20260417T070353
LOCATION:
SUMMARY:Mother's Day & Baby Dedication
URL;VALUE=URI:https://www.shcfamily.com/events/mothers-day-baby-dedication/
 2026-05-10
ATTACH;FILENAME=Mothers-Day-1500-x-784-px.jpg;FMTTYPE=image/jpeg:https://dq
 5pwpg1q8ru0.cloudfront.net/2026/04/17/12/00/29/723894a2-4a19-4603-bf54-fc1
 618ff6ec4/Mothers-Day-1500-x-784-px.jpg
END:VEVENT
END:VCALENDAR
