BEGIN:VCALENDAR
VERSION:2.0
PRODID:icalendar-ruby
CALSCALE:GREGORIAN
METHOD:PUBLISH
BEGIN:VEVENT
DTSTAMP:20260424T194704Z
UID:6-1486451@shcfamily.com
DTSTART:20260924T000000Z
DTEND:20260924T010000Z
CLASS:PUBLIC
CREATED:20260424T125950
DESCRIPTION:
LAST-MODIFIED:20260424T125950
LOCATION:
SUMMARY:Refuel Bible Studies
URL;VALUE=URI:https://www.shcfamily.com/events/refuel-bible-studies/2026-09
 -23
ATTACH;FILENAME=IMG_0816.jpeg;FMTTYPE=image/jpeg:https://dq5pwpg1q8ru0.clou
 dfront.net/2024/08/14/16/27/39/e72c7d8a-28ae-4db3-8ae3-35f0f65eff20/IMG_08
 16.jpeg
END:VEVENT
END:VCALENDAR
